BEGIN:VCALENDAR
VERSION:2.0
PRODID:-//Tukios.com/
BEGIN:VEVENT
UID:ed231c0a-0e8e-4d00-8257-33af1c9576c2@www.collinsvillefh.com
DTSTAMP:20260421T215649Z
DTSTART:20260425T180000Z
DTEND:20260425T190000Z
SUMMARY:Memorial Service
DESCRIPTION:
URL:https://www.collinsvillefh.com/obituaries/reta-mcdonald
LOCATION:Oologah Senior Citizens Center 140 North Locust Street  Oologah 
	OK 74053
GEO:36.4481593;-95.7105896
END:VEVENT
END:VCALENDAR