BEGIN:VCALENDAR
VERSION:2.0
PRODID:-//Tukios.com/
BEGIN:VEVENT
UID:a92156a3-6f67-46b3-bdca-220c9d449442@www.collinsvillefh.com
DTSTAMP:20260422T004057Z
DTSTART:20260425T193000Z
DTEND:20260425T203000Z
SUMMARY:Funeral Service
DESCRIPTION:
URL:https://www.collinsvillefh.com/obituaries/gary-paul
LOCATION: 100 North Olive Avenue  Broken Arrow OK 74012
GEO:36.0539557;-95.8339073
END:VEVENT
END:VCALENDAR