BEGIN:VCALENDAR
VERSION:2.0
PRODID:-//Tukios.com/
BEGIN:VEVENT
UID:7fa3f2c3-a423-4ed9-8155-2f36463494ff@www.collinsvillefh.com
DTSTAMP:20260422T003803Z
DTSTART:20260424T210000Z
DTEND:20260425T010000Z
SUMMARY:Visitation
DESCRIPTION:
URL:https://www.collinsvillefh.com/obituaries/gary-paul
LOCATION: 1302 West Main Street  Collinsville OK 74021
GEO:36.3648302;-95.8406708
END:VEVENT
END:VCALENDAR